BEGIN:VCALENDAR
VERSION:2.0
PRODID:-//pretix//pretix.eu//
BEGIN:VTIMEZONE
TZID:Europe/Berlin
BEGIN:STANDARD
DTSTART:20001029T040000
RRULE:FREQ=YEARLY;BYDAY=-1SU;BYMONTH=10
TZNAME:CET
TZOFFSETFROM:+0200
TZOFFSETTO:+0100
END:STANDARD
BEGIN:DAYLIGHT
DTSTART:20000326T030000
RRULE:FREQ=YEARLY;BYDAY=-1SU;BYMONTH=3
TZNAME:CEST
TZOFFSETFROM:+0100
TZOFFSETTO:+0200
END:DAYLIGHT
END:VTIMEZONE
BEGIN:VEVENT
UID:pretix-heimatbuehne-welsberg-shop-4517053@entertainment.justinbeamer.it
DTSTART;TZID=Europe/Berlin:20251012T200000
DTEND;TZID=Europe/Berlin:20251012T210000
DESCRIPTION:Tickets: https://entertainment.justinbeamer.it/shop/4517053/\nE
 inlass: 12.10.2025 19:00\nVeranstalter: Heimatbühne Welsberg
DTSTAMP:20260420T235753Z
LOCATION:Welsberg\, Italien
SUMMARY:Premiere Anouk
END:VEVENT
END:VCALENDAR
